BEGIN:VCALENDAR
VERSION:2.0
PRODID:-//ChamberMaster//Event Calendar 2.0//EN
METHOD:PUBLISH
X-PUBLISHED-TTL:P3D
REFRESH-INTERVAL:P3D
CALSCALE:GREGORIAN
BEGIN:VEVENT
DTSTART:20110316T134500Z
DTEND:20110316T160000Z
X-MICROSOFT-CDO-ALLDAYEVENT:FALSE
SUMMARY:Accounting & Finance for the HR Professional-2011
DESCRIPTION:The Virginia Peninsula Chamber of Commerce\n\n	Small Business University\n\n	Presents \n\n	Accounting & Finance for the HR Professional\n\n	\n\n	Sponsored by\n\n	LoriAnn Penman and Shonna Meadows\n\n	with\n\n	Goodman & Company\n\n	\n\n	(SHRM approved for 2.0 Strategic Credit Hours for PHR/SPHR/GPHR)\n\n	In this seminar we will teach the basics of accounting and finance and how these two critical elements of business relate to Human Resources.  As organizations continue to evolve and become more complex\, human resourse professionals will require a more complete understanding of the financial side of business.  Beyond basic personnel and compliance issues\, HR professionals are now a resource for management to assist with planning\, budgeting and financial modeling.  By learning and understanding accounting and the business process\, HR professional can begin to more closely align their HR strategies with that of their business.\n\n	\n\n	Included in our discussion will be an introduction to (or refresher of ) debits and credits and the governing bodies of accounting\, as well as more in-depth explanations of the following.\n\n	\n\n	Understanding the groups of major accounts\n\n	Financial Statements: What they are\, how to decipher them\n\n	Types of accounting (accrual vs. cash): What HR needs to understand about the two\n\n	Financial and business planning: Business process\, budgeting and types of budgets\, payroll and HR related activities\n\n	Positioning HR as Strategic Partner: Total rewards model & design process\, defining the strategic business partner role\, developing HR goals taht meet business goals\n\n	\n\n	"The use of this seal is not an endorsement by the HR Certification Institute of the quality of the program.  It means that this program has met the HR Certification Institute's criteria to be pre-approved for recertication credit"
X-ALT-DESC;FMTTYPE=text/html:<p style="text-align: center">\n	&nbsp\;</p>\n<p>\n	<span style="font-family: arial"><span style="color: rgb(0\,51\,102)"><strong>The Virginia Peninsula Chamber <em>of</em> Commerce<br />\n	Small Business University</strong></span></span></p>\n<p>\n	<span style="color: rgb(0\,51\,102)"><span style="font-size: 9px">Presents </span></span></p>\n<p>\n	<span style="color: rgb(0\,51\,102)"><span style="font-size: 14px"><strong>Accounting &amp\; Finance for the HR Professional</strong></span><br />\n	<br />\n	<span style="font-size: 9px">Sponsored by</span><br />\n	<strong>LoriAnn Penman and Shonna Meadows</strong><br />\n	<span style="font-size: 9px">with</span><br />\n	<strong>Goodman &amp\; Company</strong><br />\n	<br />\n	<strong>(SHRM approved for 2.0 Strategic Credit Hours for PHR/SPHR/GPHR)</strong></span></p>\n<p>\n	In this seminar we will teach the basics of accounting and finance and how these two critical elements of business relate to Human Resources.&nbsp\; As organizations continue to evolve and become more complex\, human resourse professionals will require a more complete understanding of the financial side of business.&nbsp\; Beyond basic personnel and compliance issues\, HR professionals are now a resource for management to assist with planning\, budgeting and financial modeling.&nbsp\; By learning and understanding accounting and the business process\, HR professional can begin to more closely align their HR strategies with that of their business.<br />\n	<br />\n	Included in our discussion will be an introduction to (or refresher of ) debits and credits and the governing bodies of accounting\, as well as more in-depth explanations of the following.<br />\n	<br />\n	<strong>Understanding the groups of major accounts</strong><br />\n	<strong>Financial Statements</strong>: What they are\, how to decipher them<br />\n	<strong>Types of accounting (accrual vs. cash):</strong> What HR needs to understand about the two<br />\n	<strong>Financial and business planning</strong>: Business process\, budgeting and types of budgets\, payroll and HR related activities<br />\n	<strong>Positioning HR as Strategic Partner</strong>: Total rewards model &amp\; design process\, defining the strategic business partner role\, developing HR goals taht meet business goals<br />\n	<br />\n	<span style="font-size: 9px">&quot\;The use of this seal is not an endorsement by the HR Certification Institute of the quality of the program.&nbsp\; It means that this program has met the HR Certification Institute&#39\;s criteria to be pre-approved for recertication credit&quot\;</span></p>\n
LOCATION:Virginia Peninsula Chamber of Commerce 21 Enterprise Parkway Ste 100 Hampton\, VA 23666
UID:e.832.144
SEQUENCE:3
DTSTAMP:20260424T032253Z
URL:https://business.virginiapeninsulachamber.com/events/details/accounting-finance-for-the-hr-professional-2011-03-16-2011-144
END:VEVENT

END:VCALENDAR
