BEGIN:VCALENDAR
VERSION:2.0
PRODID:-//ChamberMaster//Event Calendar 2.0//EN
METHOD:PUBLISH
X-PUBLISHED-TTL:P3D
REFRESH-INTERVAL:P3D
CALSCALE:GREGORIAN
BEGIN:VEVENT
DTSTART:20140417T220000Z
DTEND:20140418T013000Z
X-MICROSOFT-CDO-ALLDAYEVENT:FALSE
SUMMARY:21st Annual Tastefully Yours
DESCRIPTION:Come join all the roaring fun for the Foodbank of the Virginia Peninsula's 21st Annual Tastefully Yours event on April 17th at the Hampton Roads Convention Center.  Tastefully Yours is Hampton Road's leading premier\, one of a kind food tasting\, featuring craft beers and wines\, with over 35 local restaurants providing a sampling of their signature food item for your enjoyment.\n\n\n\nThe event includes music by Forte\, silent auction\, funny money gambling tables\, and much more.\n\n\n\nOne in eight Virginian's\, one in four a child\, struggle with hunger in our community.  The proceeds from this event will help provide food assistance to the thousands of children\, seniors\, hard-working low income families\, and now the every day modern day face\, who are food insecure.\n\n\n\nGiving has never tasted so good.
X-ALT-DESC;FMTTYPE=text/html:Come join all the roaring fun for&nbsp\;the Foodbank of the Virginia Peninsula&#39\;s&nbsp\;21st Annual Tastefully Yours event on April 17th at the Hampton Roads Convention Center.&nbsp\; Tastefully Yours is Hampton Road&#39\;s leading premier\, one of a kind food tasting\, featuring craft beers and wines\, with over 35 local restaurants providing a sampling of their signature food item for your enjoyment.<br />\n<br />\nThe event includes music&nbsp\;by Forte\, silent auction\, funny money gambling tables\, and much more.<br />\n<br />\nOne in&nbsp\;eight Virginian&#39\;s\, one in four&nbsp\;a child\, struggle with hunger in our community.&nbsp\; The proceeds from this event will help&nbsp\;provide&nbsp\;food assistance&nbsp\;to&nbsp\;the thousands of&nbsp\;children\, seniors\, hard-working low income families\, and now&nbsp\;the every day modern day face\,&nbsp\;who are food&nbsp\;insecure.<br />\n<br />\nGiving has never tasted so good.<br />\n<br />\n&nbsp\;
LOCATION:Hampton Roads Convention Center
UID:e.832.1608
SEQUENCE:3
DTSTAMP:20260421T165342Z
URL:https://business.virginiapeninsulachamber.com/events/details/21st-annual-tastefully-yours-04-17-2014-1608
END:VEVENT

END:VCALENDAR
