BEGIN:VCALENDAR
VERSION:2.0
PRODID:-//ChamberMaster//Event Calendar 2.0//EN
METHOD:PUBLISH
X-PUBLISHED-TTL:P3D
REFRESH-INTERVAL:P3D
CALSCALE:GREGORIAN
BEGIN:VEVENT
DTSTART:20130430T120000Z
DTEND:20130430T190000Z
X-MICROSOFT-CDO-ALLDAYEVENT:FALSE
SUMMARY:2013 Tidewater Employer Conference
DESCRIPTION:The "21st Century Workforce: Looking Forward" Tidewater Employer Conference. Employers can learn how to effectively use the Virginia Employment Commission's adjudication process and the virtual one-stop in addition to unemployment insurance modernization\, workforce services innovation and leveraging social media.
X-ALT-DESC;FMTTYPE=text/html:The &quot\;21st Century Workforce: Looking Forward&quot\; Tidewater Employer Conference. Employers can learn how to effectively use the Virginia Employment Commission&#39\;s adjudication process and the virtual one-stop in addition to unemployment insurance modernization\, workforce services innovation and leveraging social media.
LOCATION:Hilton Virginia Beach Oceanfront 3001 Atlantic Avenue\, Virginia Beach\, VA
UID:e.832.1621
SEQUENCE:3
DTSTAMP:20260422T141734Z
URL:https://business.virginiapeninsulachamber.com/events/details/2013-tidewater-employer-conference-04-30-2013-1621
END:VEVENT

END:VCALENDAR
