BEGIN:VCALENDAR
VERSION:2.0
PRODID:-//ChamberMaster//Event Calendar 2.0//EN
METHOD:PUBLISH
X-PUBLISHED-TTL:P3D
REFRESH-INTERVAL:P3D
CALSCALE:GREGORIAN
BEGIN:VEVENT
DTSTART:20131019T200000Z
DTEND:20131019T230000Z
X-MICROSOFT-CDO-ALLDAYEVENT:FALSE
SUMMARY:2013 Aww Shucks...Oyster Roast
DESCRIPTION:Trinity Lutheran School and the Crab Shack on the James present the 2013 Aww Shucks...Oyster Roast. 4 to 7 p.m. on Sat. Oct. 19. Enjoy all-you-can-eat freshly shucked oysters and spit-roasted pork BBQ with sides and beverages\, live music\, student-created art auction and themed gift baskets\, professional photos\, and a beautiful James River sunset!
X-ALT-DESC;FMTTYPE=text/html:Trinity Lutheran School and the Crab Shack on the James present the 2013 Aww Shucks...Oyster Roast. 4 to 7 p.m. on Sat. Oct. 19. Enjoy all-you-can-eat freshly shucked oysters and spit-roasted pork BBQ with sides and beverages\, live music\, student-created art auction and themed gift baskets\, professional photos\, and a beautiful James River sunset!
LOCATION:Crab Shack on the James 7601 River Rd. Newport News\, VA
UID:e.832.1876
SEQUENCE:3
DTSTAMP:20260422T020615Z
URL:https://business.virginiapeninsulachamber.com/events/details/2013-aww-shucks-oyster-roast-10-19-2013-1876
END:VEVENT

END:VCALENDAR
