BEGIN:VCALENDAR
VERSION:2.0
PRODID:-//ChamberMaster//Event Calendar 2.0//EN
METHOD:PUBLISH
X-PUBLISHED-TTL:P3D
REFRESH-INTERVAL:P3D
CALSCALE:GREGORIAN
BEGIN:VEVENT
DTSTART:20130416T120000Z
DTEND:20130416T130000Z
X-MICROSOFT-CDO-ALLDAYEVENT:FALSE
SUMMARY:11th Annual Breakfast to Benefit the Children
DESCRIPTION:THANK YOU to Old Point National Bank for sponsoring this event\, which helps subsidize tuition for low-income children to attend the nationally accredited Downtown Hampton Child Development Center (full-day care and education for 200 children\, ages 6 weeks to 5 years) Please join us for this one-hour event\, where you'll enjoy: ? A hot plated meal ? Inspirational words from keynote speaker Mike Petters\, President and CEO of Huntington Ingalls Industries. ? Musical performance by our adorable 4-year-olds ? Testimonial from an all-grown-up DHCDC student ? Opportunity to make a lasting gift to the children
X-ALT-DESC;FMTTYPE=text/html:THANK YOU to Old Point National Bank for sponsoring this event\, which helps subsidize tuition for low-income children to attend the nationally accredited Downtown Hampton Child Development Center (full-day care and education for 200 children\, ages 6 weeks to 5 years) Please join us for this one-hour event\, where you&#39\;ll enjoy: ? A hot plated meal ? Inspirational words from keynote speaker Mike Petters\, President and CEO of Huntington Ingalls Industries. ? Musical performance by our adorable 4-year-olds ? Testimonial from an all-grown-up DHCDC student ? Opportunity to make a lasting gift to the children
LOCATION:Hampton Roads Convention Center
UID:e.832.1600
SEQUENCE:3
DTSTAMP:20260422T123757Z
URL:https://business.virginiapeninsulachamber.com/events/details/11th-annual-breakfast-to-benefit-the-children-04-16-2013-1600
END:VEVENT

END:VCALENDAR
